Workbook

Sheet Start here
B1: Juggle Circle · class data
B2: CRE342 Week 2 · flow & immersion
B4: 1. Players tab: one row per player per round (three rows each). Type only in the yellow columns.
B5: Use your player ID or initials, never your full name: this sheet is shared by link.
B6: 2. Use round LETTERS (A, B, C), not the order you played them. Even-numbered groups played C second.
B7: 3. Times are in seconds: 2:30 = 150. Leave "Time in" blank if you were still standing when the round ended.
B8: 4. Rounds tab (recorders): only fill it in if a round ended early because one player was left.
B9: 5. Results tab: everything is worked out for you. Don't type there.
B11: Colour key: yellow = type here · grey = worked out by the sheet
B13: Example row (format only: don't copy it into the Players tab):
C14: Group | D14: Order | E14: Player ID | F14: Player type | G14: Round | H14: F1 | I14: F2 | J14: F3 | K14: T estimate (s) | L14: Time in (s) | M14: One word
C15: 3 | D15: ABC | E15: P04 | F15: Free Spirit | G15: C | H15: 3 | I15: 2 | J15: 6 | K15: 210 | L15: 95 | M15: frazzled
B17: Flow index = (F1 + F2 + (8 − F3)) ÷ 3, from 1 to 7. Time distortion = T estimate ÷ actual round length: below 1 means time flew.
B18: Distraction cost = (B − C) ÷ B: the share of your Round B flow (or time in) that the distractors took away.

Sheet Players
A1: Group | B1: Order | C1: Player ID | D1: Player type | E1: Round | F1: F1 | G1: F2 | H1: F3 | I1: T estimate (s) | J1: Time in (s) | K1: One word | L1: Played | M1: Round length (s) | N1: Time in used (s) | O1: Flow index | P1: Time distortion
L2: =IF(E2="","",IF(E2="A",1,IF(OR(AND(B2="ABC",E2="B"),AND(B2="ACB",E2="C")),2,3))) | M2: =IF(E2="","",IF(SUMIFS(Rounds!$C$2:$C$41,Rounds!$A$2:$A$41,A2,Rounds!$B$2:$B$41,E2)>0,SUMIFS(Rounds!$C$2:$C$41,Rounds!$A$2:$A$41,A2,Rounds!$B$2:$B$41,E2),IF(E2="A",120,180))) | N2: =IF(E2="","",IF(J2="",M2,J2)) | O2: =IF(COUNT(F2:H2)<3,"",(F2+G2+(8-H2))/3) | P2: =IF(OR(I2="",M2=""),"",I2/M2)
L3: =IF(E3="","",IF(E3="A",1,IF(OR(AND(B3="ABC",E3="B"),AND(B3="ACB",E3="C")),2,3))) | M3: =IF(E3="","",IF(SUMIFS(Rounds!$C$2:$C$41,Rounds!$A$2:$A$41,A3,Rounds!$B$2:$B$41,E3)>0,SUMIFS(Rounds!$C$2:$C$41,Rounds!$A$2:$A$41,A3,Rounds!$B$2:$B$41,E3),IF(E3="A",120,180))) | N3: =IF(E3="","",IF(J3="",M3,J3)) | O3: =IF(COUNT(F3:H3)<3,"",(F3+G3+(8-H3))/3) | P3: =IF(OR(I3="",M3=""),"",I3/M3)
L4: =IF(E4="","",IF(E4="A",1,IF(OR(AND(B4="ABC",E4="B"),AND(B4="ACB",E4="C")),2,3))) | M4: =IF(E4="","",IF(SUMIFS(Rounds!$C$2:$C$41,Rounds!$A$2:$A$41,A4,Rounds!$B$2:$B$41,E4)>0,SUMIFS(Rounds!$C$2:$C$41,Rounds!$A$2:$A$41,A4,Rounds!$B$2:$B$41,E4),IF(E4="A",120,180))) | N4: =IF(E4="","",IF(J4="",M4,J4)) | O4: =IF(COUNT(F4:H4)<3,"",(F4+G4+(8-H4))/3) | P4: =IF(OR(I4="",M4=""),"",I4/M4)
L5: =IF(E5="","",IF(E5="A",1,IF(OR(AND(B5="ABC",E5="B"),AND(B5="ACB",E5="C")),2,3))) | M5: =IF(E5="","",IF(SUMIFS(Rounds!$C$2:$C$41,Rounds!$A$2:$A$41,A5,Rounds!$B$2:$B$41,E5)>0,SUMIFS(Rounds!$C$2:$C$41,Rounds!$A$2:$A$41,A5,Rounds!$B$2:$B$41,E5),IF(E5="A",120,180))) | N5: =IF(E5="","",IF(J5="",M5,J5)) | O5: =IF(COUNT(F5:H5)<3,"",(F5+G5+(8-H5))/3) | P5: =IF(OR(I5="",M5=""),"",I5/M5)
L6: =IF(E6="","",IF(E6="A",1,IF(OR(AND(B6="ABC",E6="B"),AND(B6="ACB",E6="C")),2,3))) | M6: =IF(E6="","",IF(SUMIFS(Rounds!$C$2:$C$41,Rounds!$A$2:$A$41,A6,Rounds!$B$2:$B$41,E6)>0,SUMIFS(Rounds!$C$2:$C$41,Rounds!$A$2:$A$41,A6,Rounds!$B$2:$B$41,E6),IF(E6="A",120,180))) | N6: =IF(E6="","",IF(J6="",M6,J6)) | O6: =IF(COUNT(F6:H6)<3,"",(F6+G6+(8-H6))/3) | P6: =IF(OR(I6="",M6=""),"",I6/M6)
L7: =IF(E7="","",IF(E7="A",1,IF(OR(AND(B7="ABC",E7="B"),AND(B7="ACB",E7="C")),2,3))) | M7: =IF(E7="","",IF(SUMIFS(Rounds!$C$2:$C$41,Rounds!$A$2:$A$41,A7,Rounds!$B$2:$B$41,E7)>0,SUMIFS(Rounds!$C$2:$C$41,Rounds!$A$2:$A$41,A7,Rounds!$B$2:$B$41,E7),IF(E7="A",120,180))) | N7: =IF(E7="","",IF(J7="",M7,J7)) | O7: =IF(COUNT(F7:H7)<3,"",(F7+G7+(8-H7))/3) | P7: =IF(OR(I7="",M7=""),"",I7/M7)
L8: =IF(E8="","",IF(E8="A",1,IF(OR(AND(B8="ABC",E8="B"),AND(B8="ACB",E8="C")),2,3))) | M8: =IF(E8="","",IF(SUMIFS(Rounds!$C$2:$C$41,Rounds!$A$2:$A$41,A8,Rounds!$B$2:$B$41,E8)>0,SUMIFS(Rounds!$C$2:$C$41,Rounds!$A$2:$A$41,A8,Rounds!$B$2:$B$41,E8),IF(E8="A",120,180))) | N8: =IF(E8="","",IF(J8="",M8,J8)) | O8: =IF(COUNT(F8:H8)<3,"",(F8+G8+(8-H8))/3) | P8: =IF(OR(I8="",M8=""),"",I8/M8)
L9: =IF(E9="","",IF(E9="A",1,IF(OR(AND(B9="ABC",E9="B"),AND(B9="ACB",E9="C")),2,3))) | M9: =IF(E9="","",IF(SUMIFS(Rounds!$C$2:$C$41,Rounds!$A$2:$A$41,A9,Rounds!$B$2:$B$41,E9)>0,SUMIFS(Rounds!$C$2:$C$41,Rounds!$A$2:$A$41,A9,Rounds!$B$2:$B$41,E9),IF(E9="A",120,180))) | N9: =IF(E9="","",IF(J9="",M9,J9)) | O9: =IF(COUNT(F9:H9)<3,"",(F9+G9+(8-H9))/3) | P9: =IF(OR(I9="",M9=""),"",I9/M9)
L10: =IF(E10="","",IF(E10="A",1,IF(OR(AND(B10="ABC",E10="B"),AND(B10="ACB",E10="C")),2,3))) | M10: =IF(E10="","",IF(SUMIFS(Rounds!$C$2:$C$41,Rounds!$A$2:$A$41,A10,Rounds!$B$2:$B$41,E10)>0,SUMIFS(Rounds!$C$2:$C$41,Rounds!$A$2:$A$41,A10,Rounds!$B$2:$B$41,E10),IF(E10="A",120,180))) | N10: =IF(E10="","",IF(J10="",M10,J10)) | O10: =IF(COUNT(F10:H10)<3,"",(F10+G10+(8-H10))/3) | P10: =IF(OR(I10="",M10=""),"",I10/M10)
L11: =IF(E11="","",IF(E11="A",1,IF(OR(AND(B11="ABC",E11="B"),AND(B11="ACB",E11="C")),2,3))) | M11: =IF(E11="","",IF(SUMIFS(Rounds!$C$2:$C$41,Rounds!$A$2:$A$41,A11,Rounds!$B$2:$B$41,E11)>0,SUMIFS(Rounds!$C$2:$C$41,Rounds!$A$2:$A$41,A11,Rounds!$B$2:$B$41,E11),IF(E11="A",120,180))) | N11: =IF(E11="","",IF(J11="",M11,J11)) | O11: =IF(COUNT(F11:H11)<3,"",(F11+G11+(8-H11))/3) | P11: =IF(OR(I11="",M11=""),"",I11/M11)
L12: =IF(E12="","",IF(E12="A",1,IF(OR(AND(B12="ABC",E12="B"),AND(B12="ACB",E12="C")),2,3))) | M12: =IF(E12="","",IF(SUMIFS(Rounds!$C$2:$C$41,Rounds!$A$2:$A$41,A12,Rounds!$B$2:$B$41,E12)>0,SUMIFS(Rounds!$C$2:$C$41,Rounds!$A$2:$A$41,A12,Rounds!$B$2:$B$41,E12),IF(E12="A",120,180))) | N12: =IF(E12="","",IF(J12="",M12,J12)) | O12: =IF(COUNT(F12:H12)<3,"",(F12+G12+(8-H12))/3) | P12: =IF(OR(I12="",M12=""),"",I12/M12)
L13: =IF(E13="","",IF(E13="A",1,IF(OR(AND(B13="ABC",E13="B"),AND(B13="ACB",E13="C")),2,3))) | M13: =IF(E13="","",IF(SUMIFS(Rounds!$C$2:$C$41,Rounds!$A$2:$A$41,A13,Rounds!$B$2:$B$41,E13)>0,SUMIFS(Rounds!$C$2:$C$41,Rounds!$A$2:$A$41,A13,Rounds!$B$2:$B$41,E13),IF(E13="A",120,180))) | N13: =IF(E13="","",IF(J13="",M13,J13)) | O13: =IF(COUNT(F13:H13)<3,"",(F13+G13+(8-H13))/3) | P13: =IF(OR(I13="",M13=""),"",I13/M13)
... L301: =IF(E301="","",IF(E301="A",1,IF(OR(AND(B301="ABC",E301="B"),AND(B301="ACB",E301="C")),2,3))) | M301: =IF(E301="","",IF(SUMIFS(Rounds!$C$2:$C$41,Rounds!$A$2:$A$41,A301,Rounds!$B$2:$B$41,E301)>0,SUMIFS(Rounds!$C$2:$C$41,Rounds!$A$2:$A$41,A301,Rounds!$B$2:$B$41,E301),IF(E301="A",120,180))) | N301: =IF(E301="","",IF(J301="",M301,J301)) | O301: =IF(COUNT(F301:H301)<3,"",(F301+G301+(8-H301))/3) | P301: =IF(OR(I301="",M301=""),"",I301/M301)

Sheet Rounds
A1: Group | B1: Round (A/B/C) | C1: Round length (s) | D1: Note
D2: Only for rounds that ended early. Full rounds are A = 120 s, B and C = 180 s.

Sheet Results
A1: Results
A2: Worked out from the Players tab. Blank means there is no data yet.
A4: 1 · Each round
A5: Round | B5: Rows | C5: Flow index (1–7) | D5: Time distortion | E5: Time in (s)
A6: A · learn | B6: =COUNTIFS(Players!$E$2:$E$301,"A") -> 0 | C6: =IFERROR(AVERAGEIFS(Players!$O$2:$O$301,Players!$E$2:$E$301,"A"),"") | D6: =IFERROR(AVERAGEIFS(Players!$P$2:$P$301,Players!$E$2:$E$301,"A"),"") | E6: =IFERROR(AVERAGEIFS(Players!$N$2:$N$301,Players!$E$2:$E$301,"A"),"")
A7: B · ramp | B7: =COUNTIFS(Players!$E$2:$E$301,"B") -> 0 | C7: =IFERROR(AVERAGEIFS(Players!$O$2:$O$301,Players!$E$2:$E$301,"B"),"") | D7: =IFERROR(AVERAGEIFS(Players!$P$2:$P$301,Players!$E$2:$E$301,"B"),"") | E7: =IFERROR(AVERAGEIFS(Players!$N$2:$N$301,Players!$E$2:$E$301,"B"),"")
A8: C · ramp + distractors | B8: =COUNTIFS(Players!$E$2:$E$301,"C") -> 0 | C8: =IFERROR(AVERAGEIFS(Players!$O$2:$O$301,Players!$E$2:$E$301,"C"),"") | D8: =IFERROR(AVERAGEIFS(Players!$P$2:$P$301,Players!$E$2:$E$301,"C"),"") | E8: =IFERROR(AVERAGEIFS(Players!$N$2:$N$301,Players!$E$2:$E$301,"C"),"")
A9: Time distortion below 1 means the round felt shorter than it was (a flow marker).
A11: 2 · Distraction cost: Round B vs Round C
A12: Groups | B12: Flow in B | C12: Flow in C | D12: Flow cost | E12: Time in B (s) | F12: Time in C (s) | G12: Time-in cost
A13: All groups | B13: =IFERROR(AVERAGEIFS(Players!$O$2:$O$301,Players!$E$2:$E$301,"B"),"") | C13: =IFERROR(AVERAGEIFS(Players!$O$2:$O$301,Players!$E$2:$E$301,"C"),"") | D13: =IFERROR((B13-C13)/B13,"") | E13: =IFERROR(AVERAGEIFS(Players!$N$2:$N$301,Players!$E$2:$E$301,"B"),"") | F13: =IFERROR(AVERAGEIFS(Players!$N$2:$N$301,Players!$E$2:$E$301,"C"),"") | G13: =IFERROR((E13-F13)/E13,"")
A14: Odd groups (C played last) | B14: =IFERROR(AVERAGEIFS(Players!$O$2:$O$301,Players!$E$2:$E$301,"B",Players!$B$2:$B$301,"ABC"),"") | C14: =IFERROR(AVERAGEIFS(Players!$O$2:$O$301,Players!$E$2:$E$301,"C",Players!$B$2:$B$301,"ABC"),"") | D14: =IFERROR((B14-C14)/B14,"") | E14: =IFERROR(AVERAGEIFS(Players!$N$2:$N$301,Players!$E$2:$E$301,"B",Players!$B$2:$B$301,"ABC"),"") | F14: =IFERROR(AVERAGEIFS(Players!$N$2:$N$301,Players!$E$2:$E$301,"C",Players!$B$2:$B$301,"ABC"),"") | G14: =IFERROR((E14-F14)/E14,"")
A15: Even groups (C played second) | B15: =IFERROR(AVERAGEIFS(Players!$O$2:$O$301,Players!$E$2:$E$301,"B",Players!$B$2:$B$301,"ACB"),"") | C15: =IFERROR(AVERAGEIFS(Players!$O$2:$O$301,Players!$E$2:$E$301,"C",Players!$B$2:$B$301,"ACB"),"") | D15: =IFERROR((B15-C15)/B15,"") | E15: =IFERROR(AVERAGEIFS(Players!$N$2:$N$301,Players!$E$2:$E$301,"B",Players!$B$2:$B$301,"ACB"),"") | F15: =IFERROR(AVERAGEIFS(Players!$N$2:$N$301,Players!$E$2:$E$301,"C",Players!$B$2:$B$301,"ACB"),"") | G15: =IFERROR((E15-F15)/E15,"")
A16: Cost = (B − C) ÷ B. Similar in both orders → the distractors did it. Only when C was last → fatigue is a rival explanation.
A18: 3 · By player type (Hexad)
A19: Player type | B19: Players | C19: Flow in B | D19: Flow in C | E19: Flow cost
A20: Achiever | B20: =COUNTIFS(Players!$D$2:$D$301,"Achiever",Players!$E$2:$E$301,"A") -> 0 | C20: =IFERROR(AVERAGEIFS(Players!$O$2:$O$301,Players!$E$2:$E$301,"B",Players!$D$2:$D$301,"Achiever"),"") | D20: =IFERROR(AVERAGEIFS(Players!$O$2:$O$301,Players!$E$2:$E$301,"C",Players!$D$2:$D$301,"Achiever"),"") | E20: =IFERROR((C20-D20)/C20,"")
A21: Player | B21: =COUNTIFS(Players!$D$2:$D$301,"Player",Players!$E$2:$E$301,"A") -> 0 | C21: =IFERROR(AVERAGEIFS(Players!$O$2:$O$301,Players!$E$2:$E$301,"B",Players!$D$2:$D$301,"Player"),"") | D21: =IFERROR(AVERAGEIFS(Players!$O$2:$O$301,Players!$E$2:$E$301,"C",Players!$D$2:$D$301,"Player"),"") | E21: =IFERROR((C21-D21)/C21,"")
A22: Free Spirit | B22: =COUNTIFS(Players!$D$2:$D$301,"Free Spirit",Players!$E$2:$E$301,"A") -> 0 | C22: =IFERROR(AVERAGEIFS(Players!$O$2:$O$301,Players!$E$2:$E$301,"B",Players!$D$2:$D$301,"Free Spirit"),"") | D22: =IFERROR(AVERAGEIFS(Players!$O$2:$O$301,Players!$E$2:$E$301,"C",Players!$D$2:$D$301,"Free Spirit"),"") | E22: =IFERROR((C22-D22)/C22,"")
A23: Socialiser | B23: =COUNTIFS(Players!$D$2:$D$301,"Socialiser",Players!$E$2:$E$301,"A") -> 0 | C23: =IFERROR(AVERAGEIFS(Players!$O$2:$O$301,Players!$E$2:$E$301,"B",Players!$D$2:$D$301,"Socialiser"),"") | D23: =IFERROR(AVERAGEIFS(Players!$O$2:$O$301,Players!$E$2:$E$301,"C",Players!$D$2:$D$301,"Socialiser"),"") | E23: =IFERROR((C23-D23)/C23,"")
A24: Disruptor | B24: =COUNTIFS(Players!$D$2:$D$301,"Disruptor",Players!$E$2:$E$301,"A") -> 0 | C24: =IFERROR(AVERAGEIFS(Players!$O$2:$O$301,Players!$E$2:$E$301,"B",Players!$D$2:$D$301,"Disruptor"),"") | D24: =IFERROR(AVERAGEIFS(Players!$O$2:$O$301,Players!$E$2:$E$301,"C",Players!$D$2:$D$301,"Disruptor"),"") | E24: =IFERROR((C24-D24)/C24,"")
A25: Philanthropist | B25: =COUNTIFS(Players!$D$2:$D$301,"Philanthropist",Players!$E$2:$E$301,"A") -> 0 | C25: =IFERROR(AVERAGEIFS(Players!$O$2:$O$301,Players!$E$2:$E$301,"B",Players!$D$2:$D$301,"Philanthropist"),"") | D25: =IFERROR(AVERAGEIFS(Players!$O$2:$O$301,Players!$E$2:$E$301,"C",Players!$D$2:$D$301,"Philanthropist"),"") | E25: =IFERROR((C25-D25)/C25,"")
A26: Not sure | B26: =COUNTIFS(Players!$D$2:$D$301,"Not sure",Players!$E$2:$E$301,"A") -> 0 | C26: =IFERROR(AVERAGEIFS(Players!$O$2:$O$301,Players!$E$2:$E$301,"B",Players!$D$2:$D$301,"Not sure"),"") | D26: =IFERROR(AVERAGEIFS(Players!$O$2:$O$301,Players!$E$2:$E$301,"C",Players!$D$2:$D$301,"Not sure"),"") | E26: =IFERROR((C26-D26)/C26,"")
A27: Tiny groups: treat these as hints to discuss, not findings.
